BEGIN:VCALENDAR
VERSION:2.0
PRODID:-//New Mexico STRA - ECPv6.15.20//NONSGML v1.0//EN
CALSCALE:GREGORIAN
METHOD:PUBLISH
X-WR-CALNAME:New Mexico STRA
X-ORIGINAL-URL:https://newmexicostra.org
X-WR-CALDESC:Events for New Mexico STRA
REFRESH-INTERVAL;VALUE=DURATION:PT1H
X-Robots-Tag:noindex
X-PUBLISHED-TTL:PT1H
BEGIN:VTIMEZONE
TZID:America/Denver
BEGIN:DAYLIGHT
TZOFFSETFROM:-0700
TZOFFSETTO:-0600
TZNAME:MDT
DTSTART:20250309T090000
END:DAYLIGHT
BEGIN:STANDARD
TZOFFSETFROM:-0600
TZOFFSETTO:-0700
TZNAME:MST
DTSTART:20251102T080000
END:STANDARD
BEGIN:DAYLIGHT
TZOFFSETFROM:-0700
TZOFFSETTO:-0600
TZNAME:MDT
DTSTART:20260308T090000
END:DAYLIGHT
BEGIN:STANDARD
TZOFFSETFROM:-0600
TZOFFSETTO:-0700
TZNAME:MST
DTSTART:20261101T080000
END:STANDARD
BEGIN:DAYLIGHT
TZOFFSETFROM:-0700
TZOFFSETTO:-0600
TZNAME:MDT
DTSTART:20270314T090000
END:DAYLIGHT
BEGIN:STANDARD
TZOFFSETFROM:-0600
TZOFFSETTO:-0700
TZNAME:MST
DTSTART:20271107T080000
END:STANDARD
END:VTIMEZONE
BEGIN:VEVENT
DTSTART;TZID=America/Denver:20260304T170000
DTEND;TZID=America/Denver:20260304T190000
DTSTAMP:20260423T094010
CREATED:20260220T203404Z
LAST-MODIFIED:20260220T203404Z
UID:10000002-1772643600-1772650800@newmexicostra.org
SUMMARY:Airbnb Hosts Night Out: Learn\, Connect\, and Have Some Fun
DESCRIPTION:Albuquerque hosts\, you are invited to join us on Wednesday\, March 4\, from 5:30 PM to 7:00 PM at The Bourbon House for an evening designed just for you. \nWhether you manage one listing or a growing portfolio\, this gathering is about coming together as a local host community. We will share ideas\, talk strategy for the year ahead\, and build meaningful connections in a relaxed\, high-value setting. \nWe are also pleased to welcome special guest City Councilor Brook Bassan\, who will join us for a live Q&A and networking session. This is a great opportunity to engage in conversation\, ask questions\, and better understand what is happening locally that impacts our industry. \nWhat we will cover: \n\n\nTop Host Tips for Spring 2026 \n\n\nInvesting in Short-Term Rentals \n\n\nFinancing Options Explained \n\n\nSpecial Guest Q&A with City Councilor Brook Bassan \n\n\nOpen Networking with Fellow Hosts \n\n\nWe will kick off the evening with a casual meet-and-greet so you can connect with other NMSTRA members and local hosts before the discussion begins. If you are new\, considering becoming a host\, or simply looking to expand your network\, this is the perfect place to plug in. Our community is collaborative\, supportive\, and genuinely enjoyable to be part of. \nLocation:The Bourbon House9800 Montgomery Blvd NE\, Suite 3Food and drinks will be available for purchase. \nAnd if you are up for it\, karaoke follows the event. Feel free to stay\, unwind\, and enjoy the rest of the evening with fellow hosts. \nWe look forward to seeing you there.
URL:https://newmexicostra.org/event/airbnb-hosts-night-out-learn-connect-and-have-some-fun/
LOCATION:The Bourbon House\, 9800 Montgomery Blvd NE\, Suite 3\, Albuquerque\, United States
CATEGORIES:Alliance Event
ATTACH;FMTTYPE=image/png:https://newmexicostra.org/wp-content/uploads/2026/02/nmstra.png
END:VEVENT
END:VCALENDAR